BEGIN:VCALENDAR
X-LOTUS-CHARSET:UTF-8
VERSION:2.0
PRODID:ZMS-Berlin
BEGIN:VTIMEZONE
TZID:Europe/Berlin
X-LIC-LOCATION:Europe/Berlin
BEGIN:DAYLIGHT
TZOFFSETFROM:+0100
TZOFFSETTO:+0200
TZNAME:CEST
DTSTART:19700329T020000
RRULE:FREQ=YEARLY;INTERVAL=1;BYDAY=-1SU;BYMONTH=3
END:DAYLIGHT
BEGIN:STANDARD
TZOFFSETFROM:+0200
TZOFFSETTO:+0100
TZNAME:CET
DTSTART:19701025T030000
RRULE:FREQ=YEARLY;INTERVAL=1;BYDAY=-1SU;BYMONTH=10
END:STANDARD
END:VTIMEZONE
METHOD:REQUEST
BEGIN:VEVENT
UID:ics.terminsysteme.de1742923801
DTSTAMP:20250325T183001
CLASS:PUBLIC
DTSTART;TZID=Europe/Berlin:20250531T120000
DTEND;TZID=Europe/Berlin:20250601T020000
LOCATION:Zum See 17, 95697 Nagel
SUMMARY:Seefunk Open Air
DESCRIPTION:Seefunk Open Air am Nagler See - umsonst & draußen!\n\nMehr Infos unter https://landfunk-kollektiv.org/seefunk
BEGIN:VALARM
ACTION:DISPLAY
TRIGGER:-PT2880M
DESCRIPTION:Erinnerung
END:VALARM
END:VEVENT
END:VCALENDAR